Workbook

Sheet Cuadrante
A1: Cuadrante de turnos
A2: Mes (número) | C2: 11 | E2: Año | G2: 2026 | I2: Escribe en cada casilla el código del turno (M, T, N, P, L, V o B). Los códigos y las horas se cambian en la hoja «Turnos».
A4: Día | C4: =IF(DAY(DATE($G$2,$C$2,1))=1,DATE($G$2,$C$2,1),"") | D4: =IF(DAY(DATE($G$2,$C$2,2))=2,DATE($G$2,$C$2,2),"") | E4: =IF(DAY(DATE($G$2,$C$2,3))=3,DATE($G$2,$C$2,3),"") | F4: =IF(DAY(DATE($G$2,$C$2,4))=4,DATE($G$2,$C$2,4),"") | G4: =IF(DAY(DATE($G$2,$C$2,5))=5,DATE($G$2,$C$2,5),"") | H4: =IF(DAY(DATE($G$2,$C$2,6))=6,DATE($G$2,$C$2,6),"") | I4: =IF(DAY(DATE($G$2,$C$2,7))=7,DATE($G$2,$C$2,7),"") | J4: =IF(DAY(DATE($G$2,$C$2,8))=8,DATE($G$2,$C$2,8),"") | K4: =IF(DAY(DATE($G$2,$C$2,9))=9,DATE($G$2,$C$2,9),"") | L4: =IF(DAY(DATE($G$2,$C$2,10))=10,DATE($G$2,$C$2,10),"") | M4: =IF(DAY(DATE($G$2,$C$2,11))=11,DATE($G$2,$C$2,11),"") | N4: =IF(DAY(DATE($G$2,$C$2,12))=12,DATE($G$2,$C$2,12),"") | O4: =IF(DAY(DATE($G$2,$C$2,13))=13,DATE($G$2,$C$2,13),"") | P4: =IF(DAY(DATE($G$2,$C$2,14))=14,DATE($G$2,$C$2,14),"") | Q4: =IF(DAY(DATE($G$2,$C$2,15))=15,DATE($G$2,$C$2,15),"") | R4: =IF(DAY(DATE($G$2,$C$2,16))=16,DATE($G$2,$C$2,16),"") | S4: =IF(DAY(DATE($G$2,$C$2,17))=17,DATE($G$2,$C$2,17),"") | T4: =IF(DAY(DATE($G$2,$C$2,18))=18,DATE($G$2,$C$2,18),"") | U4: =IF(DAY(DATE($G$2,$C$2,19))=19,DATE($G$2,$C$2,19),"") | V4: =IF(DAY(DATE($G$2,$C$2,20))=20,DATE($G$2,$C$2,20),"") | W4: =IF(DAY(DATE($G$2,$C$2,21))=21,DATE($G$2,$C$2,21),"") | X4: =IF(DAY(DATE($G$2,$C$2,22))=22,DATE($G$2,$C$2,22),"") | Y4: =IF(DAY(DATE($G$2,$C$2,23))=23,DATE($G$2,$C$2,23),"") | Z4: =IF(DAY(DATE($G$2,$C$2,24))=24,DATE($G$2,$C$2,24),"") | AA4: =IF(DAY(DATE($G$2,$C$2,25))=25,DATE($G$2,$C$2,25),"") | AB4: =IF(DAY(DATE($G$2,$C$2,26))=26,DATE($G$2,$C$2,26),"") | AC4: =IF(DAY(DATE($G$2,$C$2,27))=27,DATE($G$2,$C$2,27),"") | AD4: =IF(DAY(DATE($G$2,$C$2,28))=28,DATE($G$2,$C$2,28),"") | AE4: =IF(DAY(DATE($G$2,$C$2,29))=29,DATE($G$2,$C$2,29),"") | AF4: =IF(DAY(DATE($G$2,$C$2,30))=30,DATE($G$2,$C$2,30),"") | AG4: =IF(DAY(DATE($G$2,$C$2,31))=31,DATE($G$2,$C$2,31),"")
A5: Empleado | B5: Puesto | C5: =IF(C4="","",DAY(C4)) | D5: =IF(D4="","",DAY(D4)) | E5: =IF(E4="","",DAY(E4)) | F5: =IF(F4="","",DAY(F4)) | G5: =IF(G4="","",DAY(G4)) | H5: =IF(H4="","",DAY(H4)) | I5: =IF(I4="","",DAY(I4)) | J5: =IF(J4="","",DAY(J4)) | ... AG5: =IF(AG4="","",DAY(AG4)) | AH5: Mañanas | AI5: Tardes | AJ5: Noches | AK5: Partidos | AL5: Libres | AM5: Horas
A6: Empleado 1 | AH6: =COUNTIF(C6:AG6,Turnos!$A$5) | AI6: =COUNTIF(C6:AG6,Turnos!$A$6) | AJ6: =COUNTIF(C6:AG6,Turnos!$A$7) | AK6: =COUNTIF(C6:AG6,Turnos!$A$8) | AL6: =COUNTIF(C6:AG6,Turnos!$A$9) | AM6: =COUNTIF(C6:AG6,Turnos!$A$5)*Turnos!$D$5+COUNTIF(C6:AG6,Turnos!$A$6)*Turnos!$D$6+COUNTIF(C6:AG6,Turnos!$A$7)*Turnos!$D$7+COUNTIF(C6:AG6,Turnos!$A$8)*Turnos!$D$8+COUNTIF(C6:AG6,Turnos!$A$9)*Turnos!$D$9+COUNTIF(C6:AG6,Turnos!$A$10)*Turnos!$D$10+COUNTIF(C6:AG6,Turnos!$A$11)*Turnos!$D$11
A7: Empleado 2 | AH7: =COUNTIF(C7:AG7,Turnos!$A$5) | AI7: =COUNTIF(C7:AG7,Turnos!$A$6) | AJ7: =COUNTIF(C7:AG7,Turnos!$A$7) | AK7: =COUNTIF(C7:AG7,Turnos!$A$8) | AL7: =COUNTIF(C7:AG7,Turnos!$A$9) | AM7: =COUNTIF(C7:AG7,Turnos!$A$5)*Turnos!$D$5+COUNTIF(C7:AG7,Turnos!$A$6)*Turnos!$D$6+COUNTIF(C7:AG7,Turnos!$A$7)*Turnos!$D$7+COUNTIF(C7:AG7,Turnos!$A$8)*Turnos!$D$8+COUNTIF(C7:AG7,Turnos!$A$9)*Turnos!$D$9+COUNTIF(C7:AG7,Turnos!$A$10)*Turnos!$D$10+COUNTIF(C7:AG7,Turnos!$A$11)*Turnos!$D$11
A8: Empleado 3 | AH8: =COUNTIF(C8:AG8,Turnos!$A$5) | AI8: =COUNTIF(C8:AG8,Turnos!$A$6) | AJ8: =COUNTIF(C8:AG8,Turnos!$A$7) | AK8: =COUNTIF(C8:AG8,Turnos!$A$8) | AL8: =COUNTIF(C8:AG8,Turnos!$A$9) | AM8: =COUNTIF(C8:AG8,Turnos!$A$5)*Turnos!$D$5+COUNTIF(C8:AG8,Turnos!$A$6)*Turnos!$D$6+COUNTIF(C8:AG8,Turnos!$A$7)*Turnos!$D$7+COUNTIF(C8:AG8,Turnos!$A$8)*Turnos!$D$8+COUNTIF(C8:AG8,Turnos!$A$9)*Turnos!$D$9+COUNTIF(C8:AG8,Turnos!$A$10)*Turnos!$D$10+COUNTIF(C8:AG8,Turnos!$A$11)*Turnos!$D$11
AH9: =COUNTIF(C9:AG9,Turnos!$A$5) | AI9: =COUNTIF(C9:AG9,Turnos!$A$6) | AJ9: =COUNTIF(C9:AG9,Turnos!$A$7) | AK9: =COUNTIF(C9:AG9,Turnos!$A$8) | AL9: =COUNTIF(C9:AG9,Turnos!$A$9) | AM9: =COUNTIF(C9:AG9,Turnos!$A$5)*Turnos!$D$5+COUNTIF(C9:AG9,Turnos!$A$6)*Turnos!$D$6+COUNTIF(C9:AG9,Turnos!$A$7)*Turnos!$D$7+COUNTIF(C9:AG9,Turnos!$A$8)*Turnos!$D$8+COUNTIF(C9:AG9,Turnos!$A$9)*Turnos!$D$9+COUNTIF(C9:AG9,Turnos!$A$10)*Turnos!$D$10+COUNTIF(C9:AG9,Turnos!$A$11)*Turnos!$D$11
AH10: =COUNTIF(C10:AG10,Turnos!$A$5) | AI10: =COUNTIF(C10:AG10,Turnos!$A$6) | AJ10: =COUNTIF(C10:AG10,Turnos!$A$7) | AK10: =COUNTIF(C10:AG10,Turnos!$A$8) | AL10: =COUNTIF(C10:AG10,Turnos!$A$9) | AM10: =COUNTIF(C10:AG10,Turnos!$A$5)*Turnos!$D$5+COUNTIF(C10:AG10,Turnos!$A$6)*Turnos!$D$6+COUNTIF(C10:AG10,Turnos!$A$7)*Turnos!$D$7+COUNTIF(C10:AG10,Turnos!$A$8)*Turnos!$D$8+COUNTIF(C10:AG10,Turnos!$A$9)*Turnos!$D$9+COUNTIF(C10:AG10,Turnos!$A$10)*Turnos!$D$10+COUNTIF(C10:AG10,Turnos!$A$11)*Turnos!$D$11
AH11: =COUNTIF(C11:AG11,Turnos!$A$5) | AI11: =COUNTIF(C11:AG11,Turnos!$A$6) | AJ11: =COUNTIF(C11:AG11,Turnos!$A$7) | AK11: =COUNTIF(C11:AG11,Turnos!$A$8) | AL11: =COUNTIF(C11:AG11,Turnos!$A$9) | AM11: =COUNTIF(C11:AG11,Turnos!$A$5)*Turnos!$D$5+COUNTIF(C11:AG11,Turnos!$A$6)*Turnos!$D$6+COUNTIF(C11:AG11,Turnos!$A$7)*Turnos!$D$7+COUNTIF(C11:AG11,Turnos!$A$8)*Turnos!$D$8+COUNTIF(C11:AG11,Turnos!$A$9)*Turnos!$D$9+COUNTIF(C11:AG11,Turnos!$A$10)*Turnos!$D$10+COUNTIF(C11:AG11,Turnos!$A$11)*Turnos!$D$11
AH12: =COUNTIF(C12:AG12,Turnos!$A$5) | AI12: =COUNTIF(C12:AG12,Turnos!$A$6) | AJ12: =COUNTIF(C12:AG12,Turnos!$A$7) | AK12: =COUNTIF(C12:AG12,Turnos!$A$8) | AL12: =COUNTIF(C12:AG12,Turnos!$A$9) | AM12: =COUNTIF(C12:AG12,Turnos!$A$5)*Turnos!$D$5+COUNTIF(C12:AG12,Turnos!$A$6)*Turnos!$D$6+COUNTIF(C12:AG12,Turnos!$A$7)*Turnos!$D$7+COUNTIF(C12:AG12,Turnos!$A$8)*Turnos!$D$8+COUNTIF(C12:AG12,Turnos!$A$9)*Turnos!$D$9+COUNTIF(C12:AG12,Turnos!$A$10)*Turnos!$D$10+COUNTIF(C12:AG12,Turnos!$A$11)*Turnos!$D$11
AH13: =COUNTIF(C13:AG13,Turnos!$A$5) | AI13: =COUNTIF(C13:AG13,Turnos!$A$6) | AJ13: =COUNTIF(C13:AG13,Turnos!$A$7) | AK13: =COUNTIF(C13:AG13,Turnos!$A$8) | AL13: =COUNTIF(C13:AG13,Turnos!$A$9) | AM13: =COUNTIF(C13:AG13,Turnos!$A$5)*Turnos!$D$5+COUNTIF(C13:AG13,Turnos!$A$6)*Turnos!$D$6+COUNTIF(C13:AG13,Turnos!$A$7)*Turnos!$D$7+COUNTIF(C13:AG13,Turnos!$A$8)*Turnos!$D$8+COUNTIF(C13:AG13,Turnos!$A$9)*Turnos!$D$9+COUNTIF(C13:AG13,Turnos!$A$10)*Turnos!$D$10+COUNTIF(C13:AG13,Turnos!$A$11)*Turnos!$D$11
AH14: =COUNTIF(C14:AG14,Turnos!$A$5) | AI14: =COUNTIF(C14:AG14,Turnos!$A$6) | AJ14: =COUNTIF(C14:AG14,Turnos!$A$7) | AK14: =COUNTIF(C14:AG14,Turnos!$A$8) | AL14: =COUNTIF(C14:AG14,Turnos!$A$9) | AM14: =COUNTIF(C14:AG14,Turnos!$A$5)*Turnos!$D$5+COUNTIF(C14:AG14,Turnos!$A$6)*Turnos!$D$6+COUNTIF(C14:AG14,Turnos!$A$7)*Turnos!$D$7+COUNTIF(C14:AG14,Turnos!$A$8)*Turnos!$D$8+COUNTIF(C14:AG14,Turnos!$A$9)*Turnos!$D$9+COUNTIF(C14:AG14,Turnos!$A$10)*Turnos!$D$10+COUNTIF(C14:AG14,Turnos!$A$11)*Turnos!$D$11
AH15: =COUNTIF(C15:AG15,Turnos!$A$5) | AI15: =COUNTIF(C15:AG15,Turnos!$A$6) | AJ15: =COUNTIF(C15:AG15,Turnos!$A$7) | AK15: =COUNTIF(C15:AG15,Turnos!$A$8) | AL15: =COUNTIF(C15:AG15,Turnos!$A$9) | AM15: =COUNTIF(C15:AG15,Turnos!$A$5)*Turnos!$D$5+COUNTIF(C15:AG15,Turnos!$A$6)*Turnos!$D$6+COUNTIF(C15:AG15,Turnos!$A$7)*Turnos!$D$7+COUNTIF(C15:AG15,Turnos!$A$8)*Turnos!$D$8+COUNTIF(C15:AG15,Turnos!$A$9)*Turnos!$D$9+COUNTIF(C15:AG15,Turnos!$A$10)*Turnos!$D$10+COUNTIF(C15:AG15,Turnos!$A$11)*Turnos!$D$11
AH16: =COUNTIF(C16:AG16,Turnos!$A$5) | AI16: =COUNTIF(C16:AG16,Turnos!$A$6) | AJ16: =COUNTIF(C16:AG16,Turnos!$A$7) | AK16: =COUNTIF(C16:AG16,Turnos!$A$8) | AL16: =COUNTIF(C16:AG16,Turnos!$A$9) | AM16: =COUNTIF(C16:AG16,Turnos!$A$5)*Turnos!$D$5+COUNTIF(C16:AG16,Turnos!$A$6)*Turnos!$D$6+COUNTIF(C16:AG16,Turnos!$A$7)*Turnos!$D$7+COUNTIF(C16:AG16,Turnos!$A$8)*Turnos!$D$8+COUNTIF(C16:AG16,Turnos!$A$9)*Turnos!$D$9+COUNTIF(C16:AG16,Turnos!$A$10)*Turnos!$D$10+COUNTIF(C16:AG16,Turnos!$A$11)*Turnos!$D$11
AH17: =COUNTIF(C17:AG17,Turnos!$A$5) | AI17: =COUNTIF(C17:AG17,Turnos!$A$6) | AJ17: =COUNTIF(C17:AG17,Turnos!$A$7) | AK17: =COUNTIF(C17:AG17,Turnos!$A$8) | AL17: =COUNTIF(C17:AG17,Turnos!$A$9) | AM17: =COUNTIF(C17:AG17,Turnos!$A$5)*Turnos!$D$5+COUNTIF(C17:AG17,Turnos!$A$6)*Turnos!$D$6+COUNTIF(C17:AG17,Turnos!$A$7)*Turnos!$D$7+COUNTIF(C17:AG17,Turnos!$A$8)*Turnos!$D$8+COUNTIF(C17:AG17,Turnos!$A$9)*Turnos!$D$9+COUNTIF(C17:AG17,Turnos!$A$10)*Turnos!$D$10+COUNTIF(C17:AG17,Turnos!$A$11)*Turnos!$D$11
AH18: =COUNTIF(C18:AG18,Turnos!$A$5) | AI18: =COUNTIF(C18:AG18,Turnos!$A$6) | AJ18: =COUNTIF(C18:AG18,Turnos!$A$7) | AK18: =COUNTIF(C18:AG18,Turnos!$A$8) | AL18: =COUNTIF(C18:AG18,Turnos!$A$9) | AM18: =COUNTIF(C18:AG18,Turnos!$A$5)*Turnos!$D$5+COUNTIF(C18:AG18,Turnos!$A$6)*Turnos!$D$6+COUNTIF(C18:AG18,Turnos!$A$7)*Turnos!$D$7+COUNTIF(C18:AG18,Turnos!$A$8)*Turnos!$D$8+COUNTIF(C18:AG18,Turnos!$A$9)*Turnos!$D$9+COUNTIF(C18:AG18,Turnos!$A$10)*Turnos!$D$10+COUNTIF(C18:AG18,Turnos!$A$11)*Turnos!$D$11
AH19: =COUNTIF(C19:AG19,Turnos!$A$5) | AI19: =COUNTIF(C19:AG19,Turnos!$A$6) | AJ19: =COUNTIF(C19:AG19,Turnos!$A$7) | AK19: =COUNTIF(C19:AG19,Turnos!$A$8) | AL19: =COUNTIF(C19:AG19,Turnos!$A$9) | AM19: =COUNTIF(C19:AG19,Turnos!$A$5)*Turnos!$D$5+COUNTIF(C19:AG19,Turnos!$A$6)*Turnos!$D$6+COUNTIF(C19:AG19,Turnos!$A$7)*Turnos!$D$7+COUNTIF(C19:AG19,Turnos!$A$8)*Turnos!$D$8+COUNTIF(C19:AG19,Turnos!$A$9)*Turnos!$D$9+COUNTIF(C19:AG19,Turnos!$A$10)*Turnos!$D$10+COUNTIF(C19:AG19,Turnos!$A$11)*Turnos!$D$11
AH20: =COUNTIF(C20:AG20,Turnos!$A$5) | AI20: =COUNTIF(C20:AG20,Turnos!$A$6) | AJ20: =COUNTIF(C20:AG20,Turnos!$A$7) | AK20: =COUNTIF(C20:AG20,Turnos!$A$8) | AL20: =COUNTIF(C20:AG20,Turnos!$A$9) | AM20: =COUNTIF(C20:AG20,Turnos!$A$5)*Turnos!$D$5+COUNTIF(C20:AG20,Turnos!$A$6)*Turnos!$D$6+COUNTIF(C20:AG20,Turnos!$A$7)*Turnos!$D$7+COUNTIF(C20:AG20,Turnos!$A$8)*Turnos!$D$8+COUNTIF(C20:AG20,Turnos!$A$9)*Turnos!$D$9+COUNTIF(C20:AG20,Turnos!$A$10)*Turnos!$D$10+COUNTIF(C20:AG20,Turnos!$A$11)*Turnos!$D$11
A22: Personas de mañana | C22: =COUNTIF(C6:C20,Turnos!$A$5) | D22: =COUNTIF(D6:D20,Turnos!$A$5) | E22: =COUNTIF(E6:E20,Turnos!$A$5) | F22: =COUNTIF(F6:F20,Turnos!$A$5) | G22: =COUNTIF(G6:G20,Turnos!$A$5) | H22: =COUNTIF(H6:H20,Turnos!$A$5) | I22: =COUNTIF(I6:I20,Turnos!$A$5) | J22: =COUNTIF(J6:J20,Turnos!$A$5) | ... AG22: =COUNTIF(AG6:AG20,Turnos!$A$5)
A23: Personas de tarde | C23: =COUNTIF(C6:C20,Turnos!$A$6) | D23: =COUNTIF(D6:D20,Turnos!$A$6) | E23: =COUNTIF(E6:E20,Turnos!$A$6) | F23: =COUNTIF(F6:F20,Turnos!$A$6) | G23: =COUNTIF(G6:G20,Turnos!$A$6) | H23: =COUNTIF(H6:H20,Turnos!$A$6) | I23: =COUNTIF(I6:I20,Turnos!$A$6) | J23: =COUNTIF(J6:J20,Turnos!$A$6) | ... AG23: =COUNTIF(AG6:AG20,Turnos!$A$6)
A24: Personas de noche | C24: =COUNTIF(C6:C20,Turnos!$A$7) | D24: =COUNTIF(D6:D20,Turnos!$A$7) | E24: =COUNTIF(E6:E20,Turnos!$A$7) | F24: =COUNTIF(F6:F20,Turnos!$A$7) | G24: =COUNTIF(G6:G20,Turnos!$A$7) | H24: =COUNTIF(H6:H20,Turnos!$A$7) | I24: =COUNTIF(I6:I20,Turnos!$A$7) | J24: =COUNTIF(J6:J20,Turnos!$A$7) | ... AG24: =COUNTIF(AG6:AG20,Turnos!$A$7)
A26: Plantilla gratuita de TramitApp. Para que el cuadrante se haga solo, respete los descansos de tu convenio y llegue al móvil de cada empleado: www.tramitapp.com/software-planificacion-de-turnos/

Sheet Turnos
A1: Turnos y horas
A2: Cambia los horarios y las horas a los de tu empresa: el cuadrante calcula con estos valores.
A4: Código | B4: Turno | C4: Horario | D4: Horas
A5: M | B5: Mañana | C5: 07:00 - 15:00 | D5: 8
A6: T | B6: Tarde | C6: 15:00 - 23:00 | D6: 8
A7: N | B7: Noche | C7: 23:00 - 07:00 | D7: 8
A8: P | B8: Partido | C8: 09:00 - 13:00 y 16:00 - 20:00 | D8: 8
A9: L | B9: Libre | D9: 0
A10: V | B10: Vacaciones | D10: 0
A11: B | B11: Baja o permiso | D11: 0

Sheet Cómo se usa
A1: Cómo usar la plantilla de cuadrante de turnos
A3: 1. En la hoja «Cuadrante», escribe el mes (1 a 12) y el año: los días y su día de la semana se ponen solos.
A4: 2. Escribe el nombre y el puesto de cada persona en las columnas A y B.
A5: 3. En cada casilla, elige el código del turno en el desplegable: M (mañana), T (tarde), N (noche), P (partido), L (libre), V (vacaciones) o B (baja o permiso).
A6: 4. A la derecha verás cuántos turnos de cada tipo hace cada persona y sus horas del mes; abajo, cuántas personas hay en cada turno cada día.
A7: 5. Si tus turnos tienen otros horarios u otras horas, cámbialos en la hoja «Turnos».
A9: Antes de publicar el cuadrante, revisa los descansos: al menos 12 horas entre el final de una jornada y el inicio de la siguiente,
A10: día y medio de descanso semanal y lo que diga tu convenio colectivo (art. 34 y 37 del Estatuto de los Trabajadores).
